BEGIN:VCALENDAR
PRODID:-//Cornell Cooperative Extension of Rensselaer County//NONSGML Cornell Cooperative Extension of Rensselaer County Events//EN
X-ORIGINAL-URL:
VERSION:2.0
CALSCALE:GREGORIAN
METHOD:PUBLISH
BEGIN:VEVENT
METHOD: PUBLISH
X-MS-OLK-FORCEINSPECTOROPEN:TRUE
DTSTART:20260506T180600
DTEND:20260506T190700
SUMMARY:Understanding GLP-1 &amp; Weight Loss Medications
DTSTAMP:20110121T170000
LAST-MODIFIED:20260416T101017
CREATED:20260413T130154
SEQUENCE:0
TRANSP:TRANSPARENT
UID:32934
LOCATION:
URL:http://rensselaer.cce.cornell.edu/events/2026/05/06/understanding-glp-1-weight-loss-medications
DESCRIPTION:Free Community Webinar&amp;nbsp;Register here:&amp;nbsp;https://cornell.zoom.us/webinar/register/WN_3x9xb2zwQWmfAUxIHnwaewJoin us for a one-hour conversation on GLP-1 medications and weight loss treatments: what they are, how they work, and what they mean for your health. This event is free and open to everyone.Dr. Angela Odoms-Young Cornell University, Division of Nutritional SciencesAngela Odoms-Young, PhD (she/her/hers), is the Nancy Schlegel Meinig Associate Professor of Maternal and Child Nutrition at Cornell University, where she directs the Food and Nutrition Education in Communities Program (FNEC) and the New York State Expanded Food and Nutrition Education Program (EFNEP). She also serves as Cornell Cooperative Extension Critical Issue Lead for Human Nutrition, Food Safety and Security, and Obesity Prevention, advancing community-engaged strategies to address barriers to healthy living and improve population nutrition.Dr. Dan Berry Cornell University, Division of Nutritional SciencesDaniel Berry, Ph.D. is the Andre Bensadoun Associate Professor in the Division of Nutritional Sciences at Cornell University. He graduated from State University of New York at Cortland with a BS degree in Biology with a concentration in Environmental Science. He received a PhD degree in Molecular Nutrition from Case Western Reserve University and performed his postdoctoral studies in the Department of Developmental Biology and the Division of Endocrinology at the University of Texas Southwestern Medical Center.The Berry research group is interested in studying adipose tissue biology and systemic metabolism and do so by examining adipose stem cells. Our group is especially interested in understanding how adipose stem cells communicate with their niche/microenvironment to generate adipocytes under specific nutrient stress and environmental conditions.Presented by Cornell Cooperative Extension of Rensselaer County
CLASS:PUBLIC
CATEGORIES:
STATUS:CONFIRMED
END:VEVENT
END:VCALENDAR
n/a